BEGIN:VCALENDAR
VERSION:2.0
PRODID:-//ECU Marching Pirates - ECPv6.15.20//NONSGML v1.0//EN
CALSCALE:GREGORIAN
METHOD:PUBLISH
X-ORIGINAL-URL:https://marchingpirates.org
X-WR-CALDESC:Events for ECU Marching Pirates
REFRESH-INTERVAL;VALUE=DURATION:PT1H
X-Robots-Tag:noindex
X-PUBLISHED-TTL:PT1H
BEGIN:VTIMEZONE
TZID:America/New_York
BEGIN:DAYLIGHT
TZOFFSETFROM:-0500
TZOFFSETTO:-0400
TZNAME:EDT
DTSTART:20220313T070000
END:DAYLIGHT
BEGIN:STANDARD
TZOFFSETFROM:-0400
TZOFFSETTO:-0500
TZNAME:EST
DTSTART:20221106T060000
END:STANDARD
BEGIN:DAYLIGHT
TZOFFSETFROM:-0500
TZOFFSETTO:-0400
TZNAME:EDT
DTSTART:20230312T070000
END:DAYLIGHT
BEGIN:STANDARD
TZOFFSETFROM:-0400
TZOFFSETTO:-0500
TZNAME:EST
DTSTART:20231105T060000
END:STANDARD
BEGIN:DAYLIGHT
TZOFFSETFROM:-0500
TZOFFSETTO:-0400
TZNAME:EDT
DTSTART:20240310T070000
END:DAYLIGHT
BEGIN:STANDARD
TZOFFSETFROM:-0400
TZOFFSETTO:-0500
TZNAME:EST
DTSTART:20241103T060000
END:STANDARD
END:VTIMEZONE
BEGIN:VEVENT
DTSTART;TZID=America/New_York:20231101T160000
DTEND;TZID=America/New_York:20231101T175000
DTSTAMP:20260424T062356
CREATED:20230303T160135Z
LAST-MODIFIED:20230303T161256Z
UID:10000170-1698854400-1698861000@marchingpirates.org
SUMMARY:ECUMP Rehearsal
DESCRIPTION:
URL:https://marchingpirates.org/event/ecump-rehearsal/2023-11-01/
CATEGORIES:rehearsal
END:VEVENT
BEGIN:VEVENT
DTSTART;TZID=America/New_York:20231103T160000
DTEND;TZID=America/New_York:20231103T175000
DTSTAMP:20260424T062356
CREATED:20230303T160135Z
LAST-MODIFIED:20230303T161256Z
UID:10000171-1699027200-1699033800@marchingpirates.org
SUMMARY:ECUMP Rehearsal
DESCRIPTION:
URL:https://marchingpirates.org/event/ecump-rehearsal/2023-11-03/
CATEGORIES:rehearsal
END:VEVENT
BEGIN:VEVENT
DTSTART;VALUE=DATE:20231104
DTEND;VALUE=DATE:20231105
DTSTAMP:20260424T062356
CREATED:20230303T162023Z
LAST-MODIFIED:20230303T162023Z
UID:10000188-1699056000-1699142399@marchingpirates.org
SUMMARY:ECU vs. Tulane
DESCRIPTION:
URL:https://marchingpirates.org/event/ecu-vs-tulane/
CATEGORIES:football game
END:VEVENT
BEGIN:VEVENT
DTSTART;TZID=America/New_York:20231106T160000
DTEND;TZID=America/New_York:20231106T175000
DTSTAMP:20260424T062356
CREATED:20230303T160135Z
LAST-MODIFIED:20230303T161256Z
UID:10000172-1699286400-1699293000@marchingpirates.org
SUMMARY:ECUMP Rehearsal
DESCRIPTION:
URL:https://marchingpirates.org/event/ecump-rehearsal/2023-11-06/
CATEGORIES:rehearsal
END:VEVENT
BEGIN:VEVENT
DTSTART;TZID=America/New_York:20231108T160000
DTEND;TZID=America/New_York:20231108T175000
DTSTAMP:20260424T062356
CREATED:20230303T160135Z
LAST-MODIFIED:20230303T161256Z
UID:10000173-1699459200-1699465800@marchingpirates.org
SUMMARY:ECUMP Rehearsal
DESCRIPTION:
URL:https://marchingpirates.org/event/ecump-rehearsal/2023-11-08/
CATEGORIES:rehearsal
END:VEVENT
BEGIN:VEVENT
DTSTART;TZID=America/New_York:20231110T160000
DTEND;TZID=America/New_York:20231110T175000
DTSTAMP:20260424T062356
CREATED:20230303T160135Z
LAST-MODIFIED:20230303T161256Z
UID:10000174-1699632000-1699638600@marchingpirates.org
SUMMARY:ECUMP Rehearsal
DESCRIPTION:
URL:https://marchingpirates.org/event/ecump-rehearsal/2023-11-10/
CATEGORIES:rehearsal
END:VEVENT
BEGIN:VEVENT
DTSTART;TZID=America/New_York:20231113T160000
DTEND;TZID=America/New_York:20231113T175000
DTSTAMP:20260424T062356
CREATED:20230303T160135Z
LAST-MODIFIED:20230303T161256Z
UID:10000175-1699891200-1699897800@marchingpirates.org
SUMMARY:ECUMP Rehearsal
DESCRIPTION:
URL:https://marchingpirates.org/event/ecump-rehearsal/2023-11-13/
CATEGORIES:rehearsal
END:VEVENT
BEGIN:VEVENT
DTSTART;TZID=America/New_York:20231115T160000
DTEND;TZID=America/New_York:20231115T175000
DTSTAMP:20260424T062356
CREATED:20230303T160135Z
LAST-MODIFIED:20230303T161256Z
UID:10000176-1700064000-1700070600@marchingpirates.org
SUMMARY:ECUMP Rehearsal
DESCRIPTION:
URL:https://marchingpirates.org/event/ecump-rehearsal/2023-11-15/
CATEGORIES:rehearsal
END:VEVENT
BEGIN:VEVENT
DTSTART;TZID=America/New_York:20231117T160000
DTEND;TZID=America/New_York:20231117T175000
DTSTAMP:20260424T062356
CREATED:20230303T160135Z
LAST-MODIFIED:20230303T161256Z
UID:10000177-1700236800-1700243400@marchingpirates.org
SUMMARY:ECUMP Rehearsal
DESCRIPTION:
URL:https://marchingpirates.org/event/ecump-rehearsal/2023-11-17/
CATEGORIES:rehearsal
END:VEVENT
BEGIN:VEVENT
DTSTART;VALUE=DATE:20231118
DTEND;VALUE=DATE:20231119
DTSTAMP:20260424T062356
CREATED:20230814T151806Z
LAST-MODIFIED:20230814T151806Z
UID:10000195-1700265600-1700351999@marchingpirates.org
SUMMARY:ECU at Navy
DESCRIPTION:
URL:https://marchingpirates.org/event/ecu-at-navy/
CATEGORIES:football game
END:VEVENT
BEGIN:VEVENT
DTSTART;TZID=America/New_York:20231120T160000
DTEND;TZID=America/New_York:20231120T175000
DTSTAMP:20260424T062356
CREATED:20230303T160135Z
LAST-MODIFIED:20230303T161256Z
UID:10000178-1700496000-1700502600@marchingpirates.org
SUMMARY:ECUMP Rehearsal
DESCRIPTION:
URL:https://marchingpirates.org/event/ecump-rehearsal/2023-11-20/
CATEGORIES:rehearsal
END:VEVENT
BEGIN:VEVENT
DTSTART;VALUE=DATE:20231124
DTEND;VALUE=DATE:20231125
DTSTAMP:20260424T062356
CREATED:20230706T172135Z
LAST-MODIFIED:20230706T172135Z
UID:10000193-1700784000-1700870399@marchingpirates.org
SUMMARY:ECU vs. Tulsa (Possible Date)
DESCRIPTION:Date decision to be made on October 9
URL:https://marchingpirates.org/event/ecu-vs-tulsa-possible-date/
END:VEVENT
BEGIN:VEVENT
DTSTART;VALUE=DATE:20231125
DTEND;VALUE=DATE:20231126
DTSTAMP:20260424T062356
CREATED:20230706T172221Z
LAST-MODIFIED:20230706T172221Z
UID:10000194-1700870400-1700956799@marchingpirates.org
SUMMARY:ECU vs. Tulsa (Possible Date)
DESCRIPTION:Date decision to be made on October 9.
URL:https://marchingpirates.org/event/ecu-vs-tulsa-possible-date-2/
END:VEVENT
BEGIN:VEVENT
DTSTART;TZID=America/New_York:20231127T160000
DTEND;TZID=America/New_York:20231127T175000
DTSTAMP:20260424T062356
CREATED:20230303T160135Z
LAST-MODIFIED:20230303T161256Z
UID:10000179-1701100800-1701107400@marchingpirates.org
SUMMARY:ECUMP Rehearsal
DESCRIPTION:
URL:https://marchingpirates.org/event/ecump-rehearsal/2023-11-27/
CATEGORIES:rehearsal
END:VEVENT
BEGIN:VEVENT
DTSTART;TZID=America/New_York:20231129T160000
DTEND;TZID=America/New_York:20231129T175000
DTSTAMP:20260424T062356
CREATED:20230303T160135Z
LAST-MODIFIED:20230303T161256Z
UID:10000180-1701273600-1701280200@marchingpirates.org
SUMMARY:ECUMP Rehearsal
DESCRIPTION:
URL:https://marchingpirates.org/event/ecump-rehearsal/2023-11-29/
CATEGORIES:rehearsal
END:VEVENT
END:VCALENDAR