BEGIN:VCALENDAR
VERSION:2.0
PRODID:-//ECU Marching Pirates - ECPv6.15.20//NONSGML v1.0//EN
CALSCALE:GREGORIAN
METHOD:PUBLISH
X-WR-CALNAME:ECU Marching Pirates
X-ORIGINAL-URL:https://marchingpirates.org
X-WR-CALDESC:Events for ECU Marching Pirates
REFRESH-INTERVAL;VALUE=DURATION:PT1H
X-Robots-Tag:noindex
X-PUBLISHED-TTL:PT1H
BEGIN:VTIMEZONE
TZID:America/New_York
BEGIN:DAYLIGHT
TZOFFSETFROM:-0500
TZOFFSETTO:-0400
TZNAME:EDT
DTSTART:20230312T070000
END:DAYLIGHT
BEGIN:STANDARD
TZOFFSETFROM:-0400
TZOFFSETTO:-0500
TZNAME:EST
DTSTART:20231105T060000
END:STANDARD
BEGIN:DAYLIGHT
TZOFFSETFROM:-0500
TZOFFSETTO:-0400
TZNAME:EDT
DTSTART:20240310T070000
END:DAYLIGHT
BEGIN:STANDARD
TZOFFSETFROM:-0400
TZOFFSETTO:-0500
TZNAME:EST
DTSTART:20241103T060000
END:STANDARD
BEGIN:DAYLIGHT
TZOFFSETFROM:-0500
TZOFFSETTO:-0400
TZNAME:EDT
DTSTART:20250309T070000
END:DAYLIGHT
BEGIN:STANDARD
TZOFFSETFROM:-0400
TZOFFSETTO:-0500
TZNAME:EST
DTSTART:20251102T060000
END:STANDARD
BEGIN:DAYLIGHT
TZOFFSETFROM:-0500
TZOFFSETTO:-0400
TZNAME:EDT
DTSTART:20260308T070000
END:DAYLIGHT
BEGIN:STANDARD
TZOFFSETFROM:-0400
TZOFFSETTO:-0500
TZNAME:EST
DTSTART:20261101T060000
END:STANDARD
END:VTIMEZONE
BEGIN:VEVENT
DTSTART;TZID=America/New_York:20241030T161000
DTEND;TZID=America/New_York:20241030T180000
DTSTAMP:20260421T013530
CREATED:20240322T151901Z
LAST-MODIFIED:20240322T151901Z
UID:10000238-1730304600-1730311200@marchingpirates.org
SUMMARY:Rehearsal
DESCRIPTION:
URL:https://marchingpirates.org/event/rehearsal-2/2024-10-30/
CATEGORIES:rehearsal
END:VEVENT
BEGIN:VEVENT
DTSTART;TZID=America/New_York:20241101T161000
DTEND;TZID=America/New_York:20241101T180000
DTSTAMP:20260421T013530
CREATED:20240322T151901Z
LAST-MODIFIED:20240322T151901Z
UID:10000239-1730477400-1730484000@marchingpirates.org
SUMMARY:Rehearsal
DESCRIPTION:
URL:https://marchingpirates.org/event/rehearsal-2/2024-11-01/
CATEGORIES:rehearsal
END:VEVENT
BEGIN:VEVENT
DTSTART;VALUE=DATE:20241102
DTEND;VALUE=DATE:20241103
DTSTAMP:20260421T013530
CREATED:20240322T153009Z
LAST-MODIFIED:20240322T153010Z
UID:10000259-1730505600-1730591999@marchingpirates.org
SUMMARY:Cary Band Day
DESCRIPTION:Exhibition Performances – afternoon and evening
URL:https://marchingpirates.org/event/cary-band-day/
CATEGORIES:exhibition
END:VEVENT
BEGIN:VEVENT
DTSTART;TZID=America/New_York:20241104T161000
DTEND;TZID=America/New_York:20241104T180000
DTSTAMP:20260421T013530
CREATED:20240322T151901Z
LAST-MODIFIED:20240322T151901Z
UID:10000240-1730736600-1730743200@marchingpirates.org
SUMMARY:Rehearsal
DESCRIPTION:
URL:https://marchingpirates.org/event/rehearsal-2/2024-11-04/
CATEGORIES:rehearsal
END:VEVENT
BEGIN:VEVENT
DTSTART;TZID=America/New_York:20241106T161000
DTEND;TZID=America/New_York:20241106T180000
DTSTAMP:20260421T013530
CREATED:20240322T151901Z
LAST-MODIFIED:20240322T151901Z
UID:10000241-1730909400-1730916000@marchingpirates.org
SUMMARY:Rehearsal
DESCRIPTION:
URL:https://marchingpirates.org/event/rehearsal-2/2024-11-06/
CATEGORIES:rehearsal
END:VEVENT
BEGIN:VEVENT
DTSTART;VALUE=DATE:20241107
DTEND;VALUE=DATE:20241108
DTSTAMP:20260421T013530
CREATED:20240322T153109Z
LAST-MODIFIED:20240322T153109Z
UID:10000260-1730937600-1731023999@marchingpirates.org
SUMMARY:Florida Atlantic vs. ECU - Paint it Black!
DESCRIPTION:
URL:https://marchingpirates.org/event/florida-atlantic-vs-ecu-paint-it-black/
CATEGORIES:football game
END:VEVENT
BEGIN:VEVENT
DTSTART;TZID=America/New_York:20241108T161000
DTEND;TZID=America/New_York:20241108T180000
DTSTAMP:20260421T013530
CREATED:20240322T151901Z
LAST-MODIFIED:20240322T151901Z
UID:10000242-1731082200-1731088800@marchingpirates.org
SUMMARY:Rehearsal
DESCRIPTION:
URL:https://marchingpirates.org/event/rehearsal-2/2024-11-08/
CATEGORIES:rehearsal
END:VEVENT
BEGIN:VEVENT
DTSTART;VALUE=DATE:20241109
DTEND;VALUE=DATE:20241110
DTSTAMP:20260421T013530
CREATED:20240322T153211Z
LAST-MODIFIED:20240322T153211Z
UID:10000261-1731110400-1731196799@marchingpirates.org
SUMMARY:Southeast North Carolina Veterans Day Parade - Wilmington
DESCRIPTION:
URL:https://marchingpirates.org/event/southeast-north-carolina-veterans-day-parade-wilmington/
CATEGORIES:parade
END:VEVENT
BEGIN:VEVENT
DTSTART;TZID=America/New_York:20241111T161000
DTEND;TZID=America/New_York:20241111T180000
DTSTAMP:20260421T013530
CREATED:20240322T151901Z
LAST-MODIFIED:20240322T151901Z
UID:10000243-1731341400-1731348000@marchingpirates.org
SUMMARY:Rehearsal
DESCRIPTION:
URL:https://marchingpirates.org/event/rehearsal-2/2024-11-11/
CATEGORIES:rehearsal
END:VEVENT
BEGIN:VEVENT
DTSTART;TZID=America/New_York:20241113T161000
DTEND;TZID=America/New_York:20241113T180000
DTSTAMP:20260421T013530
CREATED:20240322T151901Z
LAST-MODIFIED:20240322T151901Z
UID:10000244-1731514200-1731520800@marchingpirates.org
SUMMARY:Rehearsal
DESCRIPTION:
URL:https://marchingpirates.org/event/rehearsal-2/2024-11-13/
CATEGORIES:rehearsal
END:VEVENT
BEGIN:VEVENT
DTSTART;TZID=America/New_York:20241115T161000
DTEND;TZID=America/New_York:20241115T180000
DTSTAMP:20260421T013530
CREATED:20240322T151901Z
LAST-MODIFIED:20240322T151901Z
UID:10000245-1731687000-1731693600@marchingpirates.org
SUMMARY:Rehearsal
DESCRIPTION:
URL:https://marchingpirates.org/event/rehearsal-2/2024-11-15/
CATEGORIES:rehearsal
END:VEVENT
BEGIN:VEVENT
DTSTART;TZID=America/New_York:20241118T161000
DTEND;TZID=America/New_York:20241118T180000
DTSTAMP:20260421T013530
CREATED:20240322T151901Z
LAST-MODIFIED:20240322T151901Z
UID:10000246-1731946200-1731952800@marchingpirates.org
SUMMARY:Rehearsal
DESCRIPTION:
URL:https://marchingpirates.org/event/rehearsal-2/2024-11-18/
CATEGORIES:rehearsal
END:VEVENT
BEGIN:VEVENT
DTSTART;TZID=America/New_York:20241120T161000
DTEND;TZID=America/New_York:20241120T180000
DTSTAMP:20260421T013530
CREATED:20240322T151901Z
LAST-MODIFIED:20240322T151901Z
UID:10000247-1732119000-1732125600@marchingpirates.org
SUMMARY:Rehearsal
DESCRIPTION:
URL:https://marchingpirates.org/event/rehearsal-2/2024-11-20/
CATEGORIES:rehearsal
END:VEVENT
BEGIN:VEVENT
DTSTART;TZID=America/New_York:20241122T161000
DTEND;TZID=America/New_York:20241122T180000
DTSTAMP:20260421T013530
CREATED:20240322T151901Z
LAST-MODIFIED:20240322T151901Z
UID:10000248-1732291800-1732298400@marchingpirates.org
SUMMARY:Rehearsal
DESCRIPTION:
URL:https://marchingpirates.org/event/rehearsal-2/2024-11-22/
CATEGORIES:rehearsal
END:VEVENT
BEGIN:VEVENT
DTSTART;TZID=America/New_York:20241125T161000
DTEND;TZID=America/New_York:20241125T180000
DTSTAMP:20260421T013530
CREATED:20240322T151901Z
LAST-MODIFIED:20240322T151901Z
UID:10000249-1732551000-1732557600@marchingpirates.org
SUMMARY:Rehearsal
DESCRIPTION:
URL:https://marchingpirates.org/event/rehearsal-2/2024-11-25/
CATEGORIES:rehearsal
END:VEVENT
BEGIN:VEVENT
DTSTART;VALUE=DATE:20241129
DTEND;VALUE=DATE:20241201
DTSTAMP:20260421T013530
CREATED:20240322T153310Z
LAST-MODIFIED:20240322T153321Z
UID:10000262-1732838400-1733011199@marchingpirates.org
SUMMARY:Navy vs. ECU (date TBD)
DESCRIPTION:
URL:https://marchingpirates.org/event/navy-vs-ecu-date-tbd/
CATEGORIES:football game
END:VEVENT
BEGIN:VEVENT
DTSTART;TZID=America/New_York:20241202T161000
DTEND;TZID=America/New_York:20241202T180000
DTSTAMP:20260421T013530
CREATED:20240322T151901Z
LAST-MODIFIED:20240322T151901Z
UID:10000252-1733155800-1733162400@marchingpirates.org
SUMMARY:Rehearsal
DESCRIPTION:
URL:https://marchingpirates.org/event/rehearsal-2/2024-12-02/
CATEGORIES:rehearsal
END:VEVENT
BEGIN:VEVENT
DTSTART;TZID=America/New_York:20241204T161000
DTEND;TZID=America/New_York:20241204T180000
DTSTAMP:20260421T013530
CREATED:20240322T151901Z
LAST-MODIFIED:20240322T151901Z
UID:10000253-1733328600-1733335200@marchingpirates.org
SUMMARY:Rehearsal
DESCRIPTION:
URL:https://marchingpirates.org/event/rehearsal-2/2024-12-04/
CATEGORIES:rehearsal
END:VEVENT
BEGIN:VEVENT
DTSTART;TZID=America/New_York:20250517T093000
DTEND;TZID=America/New_York:20250517T150000
DTSTAMP:20260421T013530
CREATED:20250305T005030Z
LAST-MODIFIED:20250305T005030Z
UID:10000275-1747474200-1747494000@marchingpirates.org
SUMMARY:2025 Spin Clinic
DESCRIPTION:
URL:https://marchingpirates.org/event/2025-spin-clinic/
CATEGORIES:clinic
ATTACH;FMTTYPE=image/png:https://marchingpirates.org/wp-content/uploads/2025/02/SpinClinic25.png
END:VEVENT
BEGIN:VEVENT
DTSTART;TZID=America/New_York:20250524T090000
DTEND;TZID=America/New_York:20250524T160000
DTSTAMP:20260421T013530
CREATED:20250305T005132Z
LAST-MODIFIED:20250305T005427Z
UID:10000276-1748077200-1748102400@marchingpirates.org
SUMMARY:2025 Day of Drumming
DESCRIPTION:
URL:https://marchingpirates.org/event/2025-day-of-drumming/
CATEGORIES:clinic
ATTACH;FMTTYPE=image/png:https://marchingpirates.org/wp-content/uploads/2025/02/DoDPurple.png
END:VEVENT
BEGIN:VEVENT
DTSTART;TZID=America/New_York:20250614T090000
DTEND;TZID=America/New_York:20250614T160000
DTSTAMP:20260421T013530
CREATED:20250305T005236Z
LAST-MODIFIED:20250305T005329Z
UID:10000277-1749891600-1749916800@marchingpirates.org
SUMMARY:2025 Day of Drumming
DESCRIPTION:
URL:https://marchingpirates.org/event/2025-day-of-drumming-2/
CATEGORIES:clinic
ATTACH;FMTTYPE=image/png:https://marchingpirates.org/wp-content/uploads/2025/02/DoDPurple.png
END:VEVENT
BEGIN:VEVENT
DTSTART;TZID=America/New_York:20250617T081500
DTEND;TZID=America/New_York:20250617T084500
DTSTAMP:20260421T013530
CREATED:20250603T152009Z
LAST-MODIFIED:20250603T152009Z
UID:10000329-1750148100-1750149900@marchingpirates.org
SUMMARY:New Student Interest Meeting
DESCRIPTION:Main Campus Student Center – room 253
URL:https://marchingpirates.org/event/new-student-interest-meeting/
END:VEVENT
BEGIN:VEVENT
DTSTART;TZID=America/New_York:20250619T081500
DTEND;TZID=America/New_York:20250619T084500
DTSTAMP:20260421T013530
CREATED:20250603T161422Z
LAST-MODIFIED:20250603T161422Z
UID:10000330-1750320900-1750322700@marchingpirates.org
SUMMARY:New Student Interest Meeting
DESCRIPTION:Main Campus Student Center – room 253
URL:https://marchingpirates.org/event/new-student-interest-meeting-2/
END:VEVENT
BEGIN:VEVENT
DTSTART;TZID=America/New_York:20250624T081500
DTEND;TZID=America/New_York:20250624T084500
DTSTAMP:20260421T013530
CREATED:20250603T161547Z
LAST-MODIFIED:20250603T161547Z
UID:10000331-1750752900-1750754700@marchingpirates.org
SUMMARY:New Student Interest Meeting
DESCRIPTION:Main Campus Student Center – room 253
URL:https://marchingpirates.org/event/new-student-interest-meeting-3/
END:VEVENT
BEGIN:VEVENT
DTSTART;TZID=America/New_York:20250626T081500
DTEND;TZID=America/New_York:20250626T084500
DTSTAMP:20260421T013530
CREATED:20250603T161806Z
LAST-MODIFIED:20250603T161806Z
UID:10000332-1750925700-1750927500@marchingpirates.org
SUMMARY:New Student Interest Meeting
DESCRIPTION:Main Campus Student Center – room 253
URL:https://marchingpirates.org/event/new-student-interest-meeting-4/
END:VEVENT
BEGIN:VEVENT
DTSTART;TZID=America/New_York:20250701T081500
DTEND;TZID=America/New_York:20250701T084500
DTSTAMP:20260421T013530
CREATED:20250603T161949Z
LAST-MODIFIED:20250603T161949Z
UID:10000333-1751357700-1751359500@marchingpirates.org
SUMMARY:New Student Interest Meeting
DESCRIPTION:Main Campus Student Center – room 253
URL:https://marchingpirates.org/event/new-student-interest-meeting-5/
END:VEVENT
BEGIN:VEVENT
DTSTART;TZID=America/New_York:20250703T081500
DTEND;TZID=America/New_York:20250703T084500
DTSTAMP:20260421T013530
CREATED:20250603T162117Z
LAST-MODIFIED:20250603T162117Z
UID:10000334-1751530500-1751532300@marchingpirates.org
SUMMARY:New Student Interest Meeting
DESCRIPTION:Main Campus Student Center – room 253
URL:https://marchingpirates.org/event/new-student-interest-meeting-6/
END:VEVENT
BEGIN:VEVENT
DTSTART;TZID=America/New_York:20250708T081500
DTEND;TZID=America/New_York:20250708T084500
DTSTAMP:20260421T013530
CREATED:20250603T162241Z
LAST-MODIFIED:20250603T162241Z
UID:10000335-1751962500-1751964300@marchingpirates.org
SUMMARY:New Student Interest Meeting
DESCRIPTION:Main Campus Student Center – room 253
URL:https://marchingpirates.org/event/new-student-interest-meeting-7/
END:VEVENT
BEGIN:VEVENT
DTSTART;TZID=America/New_York:20250710T081500
DTEND;TZID=America/New_York:20250710T084500
DTSTAMP:20260421T013530
CREATED:20250603T162357Z
LAST-MODIFIED:20250603T162357Z
UID:10000336-1752135300-1752137100@marchingpirates.org
SUMMARY:New Student Interest Meeting
DESCRIPTION:Main Campus Student Center – room 253
URL:https://marchingpirates.org/event/new-student-interest-meeting-8/
END:VEVENT
BEGIN:VEVENT
DTSTART;TZID=America/New_York:20250715T081500
DTEND;TZID=America/New_York:20250715T084500
DTSTAMP:20260421T013530
CREATED:20250603T162529Z
LAST-MODIFIED:20250603T162529Z
UID:10000337-1752567300-1752569100@marchingpirates.org
SUMMARY:New Student Interest Meeting
DESCRIPTION:Main Campus Student Center – room 253
URL:https://marchingpirates.org/event/new-student-interest-meeting-9/
END:VEVENT
END:VCALENDAR