BEGIN:VCALENDAR
VERSION:2.0
PRODID:-//ECU Marching Pirates - ECPv6.15.20//NONSGML v1.0//EN
CALSCALE:GREGORIAN
METHOD:PUBLISH
X-WR-CALNAME:ECU Marching Pirates
X-ORIGINAL-URL:https://marchingpirates.org
X-WR-CALDESC:Events for ECU Marching Pirates
REFRESH-INTERVAL;VALUE=DURATION:PT1H
X-Robots-Tag:noindex
X-PUBLISHED-TTL:PT1H
BEGIN:VTIMEZONE
TZID:America/New_York
BEGIN:DAYLIGHT
TZOFFSETFROM:-0500
TZOFFSETTO:-0400
TZNAME:EDT
DTSTART:20210314T070000
END:DAYLIGHT
BEGIN:STANDARD
TZOFFSETFROM:-0400
TZOFFSETTO:-0500
TZNAME:EST
DTSTART:20211107T060000
END:STANDARD
BEGIN:DAYLIGHT
TZOFFSETFROM:-0500
TZOFFSETTO:-0400
TZNAME:EDT
DTSTART:20220313T070000
END:DAYLIGHT
BEGIN:STANDARD
TZOFFSETFROM:-0400
TZOFFSETTO:-0500
TZNAME:EST
DTSTART:20221106T060000
END:STANDARD
BEGIN:DAYLIGHT
TZOFFSETFROM:-0500
TZOFFSETTO:-0400
TZNAME:EDT
DTSTART:20230312T070000
END:DAYLIGHT
BEGIN:STANDARD
TZOFFSETFROM:-0400
TZOFFSETTO:-0500
TZNAME:EST
DTSTART:20231105T060000
END:STANDARD
BEGIN:DAYLIGHT
TZOFFSETFROM:-0500
TZOFFSETTO:-0400
TZNAME:EDT
DTSTART:20240310T070000
END:DAYLIGHT
BEGIN:STANDARD
TZOFFSETFROM:-0400
TZOFFSETTO:-0500
TZNAME:EST
DTSTART:20241103T060000
END:STANDARD
END:VTIMEZONE
BEGIN:VEVENT
DTSTART;TZID=America/New_York:20230825T160000
DTEND;TZID=America/New_York:20230825T175000
DTSTAMP:20260420T215404
CREATED:20230303T160135Z
LAST-MODIFIED:20230303T161256Z
UID:10000142-1692979200-1692985800@marchingpirates.org
SUMMARY:ECUMP Rehearsal
DESCRIPTION:
URL:https://marchingpirates.org/event/ecump-rehearsal/2023-08-25/
CATEGORIES:rehearsal
END:VEVENT
BEGIN:VEVENT
DTSTART;TZID=America/New_York:20230823T160000
DTEND;TZID=America/New_York:20230823T175000
DTSTAMP:20260420T215404
CREATED:20230303T160135Z
LAST-MODIFIED:20230303T161256Z
UID:10000141-1692806400-1692813000@marchingpirates.org
SUMMARY:ECUMP Rehearsal
DESCRIPTION:
URL:https://marchingpirates.org/event/ecump-rehearsal/2023-08-23/
CATEGORIES:rehearsal
END:VEVENT
BEGIN:VEVENT
DTSTART;TZID=America/New_York:20230821T160000
DTEND;TZID=America/New_York:20230821T175000
DTSTAMP:20260420T215404
CREATED:20230303T160135Z
LAST-MODIFIED:20230303T161256Z
UID:10000140-1692633600-1692640200@marchingpirates.org
SUMMARY:ECUMP Rehearsal
DESCRIPTION:
URL:https://marchingpirates.org/event/ecump-rehearsal/2023-08-21/
CATEGORIES:rehearsal
END:VEVENT
BEGIN:VEVENT
DTSTART;VALUE=DATE:20230821
DTEND;VALUE=DATE:20230822
DTSTAMP:20260420T215404
CREATED:20230303T155925Z
LAST-MODIFIED:20230303T155925Z
UID:10000139-1692576000-1692662399@marchingpirates.org
SUMMARY:First Day of Class
DESCRIPTION:
URL:https://marchingpirates.org/event/first-day-of-class/
END:VEVENT
BEGIN:VEVENT
DTSTART;TZID=America/New_York:20230820T160000
DTEND;TZID=America/New_York:20230820T170000
DTSTAMP:20260420T215404
CREATED:20230303T155831Z
LAST-MODIFIED:20230303T155831Z
UID:10000123-1692547200-1692550800@marchingpirates.org
SUMMARY:New Student Convocation & Class Photo
DESCRIPTION:
URL:https://marchingpirates.org/event/new-student-convocation-class-photo/
END:VEVENT
BEGIN:VEVENT
DTSTART;TZID=America/New_York:20230819T130000
DTEND;TZID=America/New_York:20230819T160000
DTSTAMP:20260420T215404
CREATED:20230303T155628Z
LAST-MODIFIED:20230303T155628Z
UID:10000127-1692450000-1692460800@marchingpirates.org
SUMMARY:Colorguard and Drumline Rehearsal
DESCRIPTION:
URL:https://marchingpirates.org/event/colorguard-and-drumline-rehearsal/2023-08-19/
END:VEVENT
BEGIN:VEVENT
DTSTART;TZID=America/New_York:20230819T090000
DTEND;TZID=America/New_York:20230819T113000
DTSTAMP:20260420T215404
CREATED:20230303T155510Z
LAST-MODIFIED:20230303T155510Z
UID:10000138-1692435600-1692444600@marchingpirates.org
SUMMARY:Preseason Band Camp
DESCRIPTION:Rehearsal for everyone
URL:https://marchingpirates.org/event/preseason-band-camp-3/2023-08-19/
CATEGORIES:preseason camp
END:VEVENT
BEGIN:VEVENT
DTSTART;TZID=America/New_York:20230818T130000
DTEND;TZID=America/New_York:20230818T160000
DTSTAMP:20260420T215404
CREATED:20230303T155628Z
LAST-MODIFIED:20230303T155628Z
UID:10000126-1692363600-1692374400@marchingpirates.org
SUMMARY:Colorguard and Drumline Rehearsal
DESCRIPTION:
URL:https://marchingpirates.org/event/colorguard-and-drumline-rehearsal/2023-08-18/
END:VEVENT
BEGIN:VEVENT
DTSTART;TZID=America/New_York:20230818T090000
DTEND;TZID=America/New_York:20230818T113000
DTSTAMP:20260420T215404
CREATED:20230303T155510Z
LAST-MODIFIED:20230303T155510Z
UID:10000137-1692349200-1692358200@marchingpirates.org
SUMMARY:Preseason Band Camp
DESCRIPTION:Rehearsal for everyone
URL:https://marchingpirates.org/event/preseason-band-camp-3/2023-08-18/
CATEGORIES:preseason camp
END:VEVENT
BEGIN:VEVENT
DTSTART;TZID=America/New_York:20230817T130000
DTEND;TZID=America/New_York:20230817T160000
DTSTAMP:20260420T215404
CREATED:20230303T155628Z
LAST-MODIFIED:20230303T155628Z
UID:10000125-1692277200-1692288000@marchingpirates.org
SUMMARY:Colorguard and Drumline Rehearsal
DESCRIPTION:
URL:https://marchingpirates.org/event/colorguard-and-drumline-rehearsal/2023-08-17/
END:VEVENT
BEGIN:VEVENT
DTSTART;TZID=America/New_York:20230817T090000
DTEND;TZID=America/New_York:20230817T113000
DTSTAMP:20260420T215404
CREATED:20230303T155510Z
LAST-MODIFIED:20230303T155510Z
UID:10000136-1692262800-1692271800@marchingpirates.org
SUMMARY:Preseason Band Camp
DESCRIPTION:Rehearsal for everyone
URL:https://marchingpirates.org/event/preseason-band-camp-3/2023-08-17/
CATEGORIES:preseason camp
END:VEVENT
BEGIN:VEVENT
DTSTART;TZID=America/New_York:20230816T090000
DTEND;TZID=America/New_York:20230816T203000
DTSTAMP:20260420T215404
CREATED:20230228T165457Z
LAST-MODIFIED:20230228T165725Z
UID:10000135-1692176400-1692217800@marchingpirates.org
SUMMARY:Preseason Band Camp
DESCRIPTION:Rehearsal times: \n\n9 a.m. – 11:30 a.m.\n1 p.m. – 4 p.m.\n6 p.m. – 8:30 p.m.
URL:https://marchingpirates.org/event/preseason-band-camp-2/2023-08-16/
END:VEVENT
BEGIN:VEVENT
DTSTART;TZID=America/New_York:20230815T090000
DTEND;TZID=America/New_York:20230815T203000
DTSTAMP:20260420T215404
CREATED:20230228T165457Z
LAST-MODIFIED:20230228T165725Z
UID:10000134-1692090000-1692131400@marchingpirates.org
SUMMARY:Preseason Band Camp
DESCRIPTION:Rehearsal times: \n\n9 a.m. – 11:30 a.m.\n1 p.m. – 4 p.m.\n6 p.m. – 8:30 p.m.
URL:https://marchingpirates.org/event/preseason-band-camp-2/2023-08-15/
END:VEVENT
BEGIN:VEVENT
DTSTART;TZID=America/New_York:20230814T090000
DTEND;TZID=America/New_York:20230814T203000
DTSTAMP:20260420T215404
CREATED:20230228T165457Z
LAST-MODIFIED:20230228T165725Z
UID:10000133-1692003600-1692045000@marchingpirates.org
SUMMARY:Preseason Band Camp
DESCRIPTION:Rehearsal times: \n\n9 a.m. – 11:30 a.m.\n1 p.m. – 4 p.m.\n6 p.m. – 8:30 p.m.
URL:https://marchingpirates.org/event/preseason-band-camp-2/2023-08-14/
END:VEVENT
BEGIN:VEVENT
DTSTART;TZID=America/New_York:20230813T090000
DTEND;TZID=America/New_York:20230813T203000
DTSTAMP:20260420T215404
CREATED:20230228T165457Z
LAST-MODIFIED:20230228T165725Z
UID:10000132-1691917200-1691958600@marchingpirates.org
SUMMARY:Preseason Band Camp
DESCRIPTION:Rehearsal times: \n\n9 a.m. – 11:30 a.m.\n1 p.m. – 4 p.m.\n6 p.m. – 8:30 p.m.
URL:https://marchingpirates.org/event/preseason-band-camp-2/2023-08-13/
END:VEVENT
BEGIN:VEVENT
DTSTART;TZID=America/New_York:20230812T090000
DTEND;TZID=America/New_York:20230812T203000
DTSTAMP:20260420T215404
CREATED:20230228T165457Z
LAST-MODIFIED:20230228T165725Z
UID:10000131-1691830800-1691872200@marchingpirates.org
SUMMARY:Preseason Band Camp
DESCRIPTION:Rehearsal times: \n\n9 a.m. – 11:30 a.m.\n1 p.m. – 4 p.m.\n6 p.m. – 8:30 p.m.
URL:https://marchingpirates.org/event/preseason-band-camp-2/2023-08-12/
END:VEVENT
BEGIN:VEVENT
DTSTART;TZID=America/New_York:20230811T180000
DTEND;TZID=America/New_York:20230811T203000
DTSTAMP:20260420T215404
CREATED:20230228T165258Z
LAST-MODIFIED:20230228T165258Z
UID:10000130-1691776800-1691785800@marchingpirates.org
SUMMARY:Meeting & Rehearsal
DESCRIPTION:
URL:https://marchingpirates.org/event/meeting-rehearsal/
END:VEVENT
BEGIN:VEVENT
DTSTART;TZID=America/New_York:20230811T090000
DTEND;TZID=America/New_York:20230811T170000
DTSTAMP:20260420T215404
CREATED:20230228T165203Z
LAST-MODIFIED:20230228T165203Z
UID:10000129-1691744400-1691773200@marchingpirates.org
SUMMARY:Band Camp Check-In
DESCRIPTION:For new and returning members
URL:https://marchingpirates.org/event/band-camp-check-in/
CATEGORIES:preseason camp
END:VEVENT
BEGIN:VEVENT
DTSTART;TZID=America/New_York:20230715T090000
DTEND;TZID=America/New_York:20230715T160000
DTSTAMP:20260420T215404
CREATED:20230406T192709Z
LAST-MODIFIED:20230515T162210Z
UID:10000192-1689411600-1689436800@marchingpirates.org
SUMMARY:Drumline Auditions
DESCRIPTION:Learn more and register at https://marchingpirates.org/drumline-auditions/
URL:https://marchingpirates.org/event/drumline-auditions-2/
END:VEVENT
BEGIN:VEVENT
DTSTART;TZID=America/New_York:20230617T093000
DTEND;TZID=America/New_York:20230617T150000
DTSTAMP:20260420T215404
CREATED:20230213T185123Z
LAST-MODIFIED:20230406T192949Z
UID:10000128-1686994200-1687014000@marchingpirates.org
SUMMARY:Spin Clinic
DESCRIPTION:
URL:https://marchingpirates.org/event/spin-clinic-2/
CATEGORIES:clinic
END:VEVENT
BEGIN:VEVENT
DTSTART;TZID=America/New_York:20230610T090000
DTEND;TZID=America/New_York:20230610T160000
DTSTAMP:20260420T215404
CREATED:20230406T192619Z
LAST-MODIFIED:20230515T162326Z
UID:10000191-1686387600-1686412800@marchingpirates.org
SUMMARY:Drumline Auditions
DESCRIPTION:Learn more and register at https://marchingpirates.org/drumline-auditions/
URL:https://marchingpirates.org/event/drumline-auditions/
END:VEVENT
BEGIN:VEVENT
DTSTART;TZID=America/New_York:20230513T090000
DTEND;TZID=America/New_York:20230513T160000
DTSTAMP:20260420T215404
CREATED:20230406T192434Z
LAST-MODIFIED:20230406T192434Z
UID:10000190-1683968400-1683993600@marchingpirates.org
SUMMARY:Day of Drumming
DESCRIPTION:
URL:https://marchingpirates.org/event/day-of-drumming-6/
CATEGORIES:clinic
END:VEVENT
BEGIN:VEVENT
DTSTART;TZID=America/New_York:20230422T093000
DTEND;TZID=America/New_York:20230422T150000
DTSTAMP:20260420T215404
CREATED:20230213T185038Z
LAST-MODIFIED:20230406T192819Z
UID:10000124-1682155800-1682175600@marchingpirates.org
SUMMARY:Spin Clinic
DESCRIPTION:
URL:https://marchingpirates.org/event/spin-clinic/
CATEGORIES:clinic
END:VEVENT
BEGIN:VEVENT
DTSTART;TZID=America/New_York:20230415T090000
DTEND;TZID=America/New_York:20230415T160000
DTSTAMP:20260420T215404
CREATED:20230406T192345Z
LAST-MODIFIED:20230406T192345Z
UID:10000189-1681549200-1681574400@marchingpirates.org
SUMMARY:Day of Drumming
DESCRIPTION:
URL:https://marchingpirates.org/event/day-of-drumming-5/
CATEGORIES:clinic
END:VEVENT
BEGIN:VEVENT
DTSTART;VALUE=DATE:20221119
DTEND;VALUE=DATE:20221120
DTSTAMP:20260420T215404
CREATED:20220309T185607Z
LAST-MODIFIED:20220309T185607Z
UID:10000110-1668816000-1668902399@marchingpirates.org
SUMMARY:ECU vs. Houston
DESCRIPTION:Senior Day
URL:https://marchingpirates.org/event/ecu-vs-houston/
LOCATION:Dowdy Ficklen Stadium\, 100 Ficklen Dr\, Greenville\, NC\, 27858\, United States
CATEGORIES:football game
END:VEVENT
BEGIN:VEVENT
DTSTART;TZID=America/New_York:20221112T110000
DTEND;TZID=America/New_York:20221112T110000
DTSTAMP:20260420T215404
CREATED:20220309T185523Z
LAST-MODIFIED:20220309T185523Z
UID:10000111-1668250800-1668250800@marchingpirates.org
SUMMARY:Wilmington Veterans' Day Parade
DESCRIPTION:
URL:https://marchingpirates.org/event/wilmington-veterans-day-parade/
END:VEVENT
BEGIN:VEVENT
DTSTART;VALUE=DATE:20221029
DTEND;VALUE=DATE:20221030
DTSTAMP:20260420T215404
CREATED:20220309T185421Z
LAST-MODIFIED:20220309T185421Z
UID:10000112-1667001600-1667087999@marchingpirates.org
SUMMARY:Crystal Coast Band Classic
DESCRIPTION:Exhibition Performances
URL:https://marchingpirates.org/event/crystal-coast-band-classic/
LOCATION:Havelock High School\, 101 Webb Blvd\, Havelock\, NC\, 28532\, United States
CATEGORIES:exhibition
END:VEVENT
BEGIN:VEVENT
DTSTART;VALUE=DATE:20221022
DTEND;VALUE=DATE:20221023
DTSTAMP:20260420T215404
CREATED:20220309T185128Z
LAST-MODIFIED:20220309T185128Z
UID:10000113-1666396800-1666483199@marchingpirates.org
SUMMARY:ECU vs. UCF
DESCRIPTION:Paint it Black
URL:https://marchingpirates.org/event/ecu-vs-ucf/
LOCATION:Dowdy Ficklen Stadium\, 100 Ficklen Dr\, Greenville\, NC\, 27858\, United States
END:VEVENT
BEGIN:VEVENT
DTSTART;VALUE=DATE:20221015
DTEND;VALUE=DATE:20221016
DTSTAMP:20260420T215404
CREATED:20220309T185035Z
LAST-MODIFIED:20220309T185035Z
UID:10000114-1665792000-1665878399@marchingpirates.org
SUMMARY:ECU vs. Memphis
DESCRIPTION:Homecoming/Alumni Band
URL:https://marchingpirates.org/event/ecu-vs-memphis/
LOCATION:Dowdy Ficklen Stadium\, 100 Ficklen Dr\, Greenville\, NC\, 27858\, United States
END:VEVENT
BEGIN:VEVENT
DTSTART;VALUE=DATE:20220924
DTEND;VALUE=DATE:20220925
DTSTAMP:20260420T215404
CREATED:20220309T184945Z
LAST-MODIFIED:20220309T184945Z
UID:10000115-1663977600-1664063999@marchingpirates.org
SUMMARY:ECU vs. Navy
DESCRIPTION:Military Appreciation
URL:https://marchingpirates.org/event/ecu-vs-navy/
LOCATION:Dowdy Ficklen Stadium\, 100 Ficklen Dr\, Greenville\, NC\, 27858\, United States
CATEGORIES:football game
END:VEVENT
END:VCALENDAR