BEGIN:VCALENDAR
VERSION:2.0
PRODID:-//ECU Marching Pirates - ECPv6.15.20//NONSGML v1.0//EN
CALSCALE:GREGORIAN
METHOD:PUBLISH
X-ORIGINAL-URL:https://marchingpirates.org
X-WR-CALDESC:Events for ECU Marching Pirates
REFRESH-INTERVAL;VALUE=DURATION:PT1H
X-Robots-Tag:noindex
X-PUBLISHED-TTL:PT1H
BEGIN:VTIMEZONE
TZID:America/New_York
BEGIN:DAYLIGHT
TZOFFSETFROM:-0500
TZOFFSETTO:-0400
TZNAME:EDT
DTSTART:20240310T070000
END:DAYLIGHT
BEGIN:STANDARD
TZOFFSETFROM:-0400
TZOFFSETTO:-0500
TZNAME:EST
DTSTART:20241103T060000
END:STANDARD
BEGIN:DAYLIGHT
TZOFFSETFROM:-0500
TZOFFSETTO:-0400
TZNAME:EDT
DTSTART:20250309T070000
END:DAYLIGHT
BEGIN:STANDARD
TZOFFSETFROM:-0400
TZOFFSETTO:-0500
TZNAME:EST
DTSTART:20251102T060000
END:STANDARD
BEGIN:DAYLIGHT
TZOFFSETFROM:-0500
TZOFFSETTO:-0400
TZNAME:EDT
DTSTART:20260308T070000
END:DAYLIGHT
BEGIN:STANDARD
TZOFFSETFROM:-0400
TZOFFSETTO:-0500
TZNAME:EST
DTSTART:20261101T060000
END:STANDARD
END:VTIMEZONE
BEGIN:VEVENT
DTSTART;TZID=America/New_York:20251001T041000
DTEND;TZID=America/New_York:20251001T180000
DTSTAMP:20260423T080949
CREATED:20250305T010422Z
LAST-MODIFIED:20250305T010542Z
UID:10000302-1759291800-1759341600@marchingpirates.org
SUMMARY:Rehearsal
DESCRIPTION:
URL:https://marchingpirates.org/event/rehearsal-3/2025-10-01/
CATEGORIES:rehearsal
END:VEVENT
BEGIN:VEVENT
DTSTART;TZID=America/New_York:20251003T041000
DTEND;TZID=America/New_York:20251003T180000
DTSTAMP:20260423T080949
CREATED:20250305T010422Z
LAST-MODIFIED:20250305T010542Z
UID:10000303-1759464600-1759514400@marchingpirates.org
SUMMARY:Rehearsal
DESCRIPTION:
URL:https://marchingpirates.org/event/rehearsal-3/2025-10-03/
CATEGORIES:rehearsal
END:VEVENT
BEGIN:VEVENT
DTSTART;TZID=America/New_York:20251006T041000
DTEND;TZID=America/New_York:20251006T180000
DTSTAMP:20260423T080949
CREATED:20250305T010422Z
LAST-MODIFIED:20250305T010542Z
UID:10000304-1759723800-1759773600@marchingpirates.org
SUMMARY:Rehearsal
DESCRIPTION:
URL:https://marchingpirates.org/event/rehearsal-3/2025-10-06/
CATEGORIES:rehearsal
END:VEVENT
BEGIN:VEVENT
DTSTART;TZID=America/New_York:20251008T041000
DTEND;TZID=America/New_York:20251008T180000
DTSTAMP:20260423T080949
CREATED:20250305T010422Z
LAST-MODIFIED:20250305T010542Z
UID:10000305-1759896600-1759946400@marchingpirates.org
SUMMARY:Rehearsal
DESCRIPTION:
URL:https://marchingpirates.org/event/rehearsal-3/2025-10-08/
CATEGORIES:rehearsal
END:VEVENT
BEGIN:VEVENT
DTSTART;TZID=America/New_York:20251010T041000
DTEND;TZID=America/New_York:20251010T180000
DTSTAMP:20260423T080949
CREATED:20250305T010422Z
LAST-MODIFIED:20250305T010542Z
UID:10000306-1760069400-1760119200@marchingpirates.org
SUMMARY:Rehearsal
DESCRIPTION:
URL:https://marchingpirates.org/event/rehearsal-3/2025-10-10/
CATEGORIES:rehearsal
END:VEVENT
BEGIN:VEVENT
DTSTART;TZID=America/New_York:20251015T041000
DTEND;TZID=America/New_York:20251015T180000
DTSTAMP:20260423T080949
CREATED:20250305T010422Z
LAST-MODIFIED:20250305T010542Z
UID:10000307-1760501400-1760551200@marchingpirates.org
SUMMARY:Rehearsal
DESCRIPTION:
URL:https://marchingpirates.org/event/rehearsal-3/2025-10-15/
CATEGORIES:rehearsal
END:VEVENT
BEGIN:VEVENT
DTSTART;TZID=America/New_York:20251017T041000
DTEND;TZID=America/New_York:20251017T180000
DTSTAMP:20260423T080949
CREATED:20250305T010422Z
LAST-MODIFIED:20250305T010542Z
UID:10000308-1760674200-1760724000@marchingpirates.org
SUMMARY:Rehearsal
DESCRIPTION:
URL:https://marchingpirates.org/event/rehearsal-3/2025-10-17/
CATEGORIES:rehearsal
END:VEVENT
BEGIN:VEVENT
DTSTART;TZID=America/New_York:20251020T041000
DTEND;TZID=America/New_York:20251020T180000
DTSTAMP:20260423T080949
CREATED:20250305T010422Z
LAST-MODIFIED:20250305T010542Z
UID:10000309-1760933400-1760983200@marchingpirates.org
SUMMARY:Rehearsal
DESCRIPTION:
URL:https://marchingpirates.org/event/rehearsal-3/2025-10-20/
CATEGORIES:rehearsal
END:VEVENT
BEGIN:VEVENT
DTSTART;TZID=America/New_York:20251022T041000
DTEND;TZID=America/New_York:20251022T180000
DTSTAMP:20260423T080949
CREATED:20250305T010422Z
LAST-MODIFIED:20250305T010542Z
UID:10000310-1761106200-1761156000@marchingpirates.org
SUMMARY:Rehearsal
DESCRIPTION:
URL:https://marchingpirates.org/event/rehearsal-3/2025-10-22/
CATEGORIES:rehearsal
END:VEVENT
BEGIN:VEVENT
DTSTART;TZID=America/New_York:20251024T041000
DTEND;TZID=America/New_York:20251024T180000
DTSTAMP:20260423T080949
CREATED:20250305T010422Z
LAST-MODIFIED:20250305T010542Z
UID:10000311-1761279000-1761328800@marchingpirates.org
SUMMARY:Rehearsal
DESCRIPTION:
URL:https://marchingpirates.org/event/rehearsal-3/2025-10-24/
CATEGORIES:rehearsal
END:VEVENT
BEGIN:VEVENT
DTSTART;TZID=America/New_York:20251027T041000
DTEND;TZID=America/New_York:20251027T180000
DTSTAMP:20260423T080949
CREATED:20250305T010422Z
LAST-MODIFIED:20250305T010542Z
UID:10000312-1761538200-1761588000@marchingpirates.org
SUMMARY:Rehearsal
DESCRIPTION:
URL:https://marchingpirates.org/event/rehearsal-3/2025-10-27/
CATEGORIES:rehearsal
END:VEVENT
BEGIN:VEVENT
DTSTART;TZID=America/New_York:20251029T041000
DTEND;TZID=America/New_York:20251029T180000
DTSTAMP:20260423T080949
CREATED:20250305T010422Z
LAST-MODIFIED:20250305T010542Z
UID:10000313-1761711000-1761760800@marchingpirates.org
SUMMARY:Rehearsal
DESCRIPTION:
URL:https://marchingpirates.org/event/rehearsal-3/2025-10-29/
CATEGORIES:rehearsal
END:VEVENT
END:VCALENDAR