BEGIN:VCALENDAR
VERSION:2.0
PRODID:-//ECU Marching Pirates - ECPv6.15.20//NONSGML v1.0//EN
CALSCALE:GREGORIAN
METHOD:PUBLISH
X-ORIGINAL-URL:https://marchingpirates.org
X-WR-CALDESC:Events for ECU Marching Pirates
REFRESH-INTERVAL;VALUE=DURATION:PT1H
X-Robots-Tag:noindex
X-PUBLISHED-TTL:PT1H
BEGIN:VTIMEZONE
TZID:America/New_York
BEGIN:DAYLIGHT
TZOFFSETFROM:-0500
TZOFFSETTO:-0400
TZNAME:EDT
DTSTART:20220313T070000
END:DAYLIGHT
BEGIN:STANDARD
TZOFFSETFROM:-0400
TZOFFSETTO:-0500
TZNAME:EST
DTSTART:20221106T060000
END:STANDARD
BEGIN:DAYLIGHT
TZOFFSETFROM:-0500
TZOFFSETTO:-0400
TZNAME:EDT
DTSTART:20230312T070000
END:DAYLIGHT
BEGIN:STANDARD
TZOFFSETFROM:-0400
TZOFFSETTO:-0500
TZNAME:EST
DTSTART:20231105T060000
END:STANDARD
BEGIN:DAYLIGHT
TZOFFSETFROM:-0500
TZOFFSETTO:-0400
TZNAME:EDT
DTSTART:20240310T070000
END:DAYLIGHT
BEGIN:STANDARD
TZOFFSETFROM:-0400
TZOFFSETTO:-0500
TZNAME:EST
DTSTART:20241103T060000
END:STANDARD
END:VTIMEZONE
BEGIN:VEVENT
DTSTART;TZID=America/New_York:20230811T090000
DTEND;TZID=America/New_York:20230811T170000
DTSTAMP:20260422T080616
CREATED:20230228T165203Z
LAST-MODIFIED:20230228T165203Z
UID:10000129-1691744400-1691773200@marchingpirates.org
SUMMARY:Band Camp Check-In
DESCRIPTION:For new and returning members
URL:https://marchingpirates.org/event/band-camp-check-in/
CATEGORIES:preseason camp
END:VEVENT
BEGIN:VEVENT
DTSTART;TZID=America/New_York:20230817T090000
DTEND;TZID=America/New_York:20230817T113000
DTSTAMP:20260422T080616
CREATED:20230303T155510Z
LAST-MODIFIED:20230303T155510Z
UID:10000136-1692262800-1692271800@marchingpirates.org
SUMMARY:Preseason Band Camp
DESCRIPTION:Rehearsal for everyone
URL:https://marchingpirates.org/event/preseason-band-camp-3/2023-08-17/
CATEGORIES:preseason camp
END:VEVENT
BEGIN:VEVENT
DTSTART;TZID=America/New_York:20230818T090000
DTEND;TZID=America/New_York:20230818T113000
DTSTAMP:20260422T080616
CREATED:20230303T155510Z
LAST-MODIFIED:20230303T155510Z
UID:10000137-1692349200-1692358200@marchingpirates.org
SUMMARY:Preseason Band Camp
DESCRIPTION:Rehearsal for everyone
URL:https://marchingpirates.org/event/preseason-band-camp-3/2023-08-18/
CATEGORIES:preseason camp
END:VEVENT
BEGIN:VEVENT
DTSTART;TZID=America/New_York:20230819T090000
DTEND;TZID=America/New_York:20230819T113000
DTSTAMP:20260422T080616
CREATED:20230303T155510Z
LAST-MODIFIED:20230303T155510Z
UID:10000138-1692435600-1692444600@marchingpirates.org
SUMMARY:Preseason Band Camp
DESCRIPTION:Rehearsal for everyone
URL:https://marchingpirates.org/event/preseason-band-camp-3/2023-08-19/
CATEGORIES:preseason camp
END:VEVENT
END:VCALENDAR