BEGIN:VCALENDAR
VERSION:2.0
PRODID:-//ECU Marching Pirates - ECPv6.15.20//NONSGML v1.0//EN
CALSCALE:GREGORIAN
METHOD:PUBLISH
X-WR-CALNAME:ECU Marching Pirates
X-ORIGINAL-URL:https://marchingpirates.org
X-WR-CALDESC:Events for ECU Marching Pirates
REFRESH-INTERVAL;VALUE=DURATION:PT1H
X-Robots-Tag:noindex
X-PUBLISHED-TTL:PT1H
BEGIN:VTIMEZONE
TZID:America/New_York
BEGIN:DAYLIGHT
TZOFFSETFROM:-0500
TZOFFSETTO:-0400
TZNAME:EDT
DTSTART:20230312T070000
END:DAYLIGHT
BEGIN:STANDARD
TZOFFSETFROM:-0400
TZOFFSETTO:-0500
TZNAME:EST
DTSTART:20231105T060000
END:STANDARD
BEGIN:DAYLIGHT
TZOFFSETFROM:-0500
TZOFFSETTO:-0400
TZNAME:EDT
DTSTART:20240310T070000
END:DAYLIGHT
BEGIN:STANDARD
TZOFFSETFROM:-0400
TZOFFSETTO:-0500
TZNAME:EST
DTSTART:20241103T060000
END:STANDARD
BEGIN:DAYLIGHT
TZOFFSETFROM:-0500
TZOFFSETTO:-0400
TZNAME:EDT
DTSTART:20250309T070000
END:DAYLIGHT
BEGIN:STANDARD
TZOFFSETFROM:-0400
TZOFFSETTO:-0500
TZNAME:EST
DTSTART:20251102T060000
END:STANDARD
END:VTIMEZONE
BEGIN:VEVENT
DTSTART;VALUE=DATE:20240831
DTEND;VALUE=DATE:20240901
DTSTAMP:20260424T061944
CREATED:20240322T152530Z
LAST-MODIFIED:20240322T152530Z
UID:10000254-1725062400-1725148799@marchingpirates.org
SUMMARY:Norfolk State vs ECU - ECU Band Day
DESCRIPTION:ECU Band Day Information
URL:https://marchingpirates.org/event/norfolk-state-vs-ecu-ecu-band-day/
CATEGORIES:football game
ATTACH;FMTTYPE=image/png:https://marchingpirates.org/wp-content/uploads/2024/03/2024BandDay.png
END:VEVENT
END:VCALENDAR